BEGIN:VCALENDAR
VERSION:2.0
PRODID:-//Lili's Creations - ECPv6.15.17.1//NONSGML v1.0//EN
CALSCALE:GREGORIAN
METHOD:PUBLISH
X-ORIGINAL-URL:https://liliscreations.com
X-WR-CALDESC:Events for Lili's Creations
REFRESH-INTERVAL;VALUE=DURATION:PT1H
X-Robots-Tag:noindex
X-PUBLISHED-TTL:PT1H
BEGIN:VTIMEZONE
TZID:America/Los_Angeles
BEGIN:DAYLIGHT
TZOFFSETFROM:-0800
TZOFFSETTO:-0700
TZNAME:PDT
DTSTART:20230312T100000
END:DAYLIGHT
BEGIN:STANDARD
TZOFFSETFROM:-0700
TZOFFSETTO:-0800
TZNAME:PST
DTSTART:20231105T090000
END:STANDARD
BEGIN:DAYLIGHT
TZOFFSETFROM:-0800
TZOFFSETTO:-0700
TZNAME:PDT
DTSTART:20240310T100000
END:DAYLIGHT
BEGIN:STANDARD
TZOFFSETFROM:-0700
TZOFFSETTO:-0800
TZNAME:PST
DTSTART:20241103T090000
END:STANDARD
BEGIN:DAYLIGHT
TZOFFSETFROM:-0800
TZOFFSETTO:-0700
TZNAME:PDT
DTSTART:20250309T100000
END:DAYLIGHT
BEGIN:STANDARD
TZOFFSETFROM:-0700
TZOFFSETTO:-0800
TZNAME:PST
DTSTART:20251102T090000
END:STANDARD
END:VTIMEZONE
BEGIN:VEVENT
DTSTART;VALUE=DATE:20241109
DTEND;VALUE=DATE:20241112
DTSTAMP:20260423T075316
CREATED:20241030T152111Z
LAST-MODIFIED:20241030T152111Z
UID:19571-1731110400-1731369599@liliscreations.com
SUMMARY:Trunk Show
DESCRIPTION:We have an upcoming Quinceañera Trunk Show! Preview the new XV styles! \nNovember 9th\, 10th\, & 11th 2024 \n329 E Street\, Chula Vista CA 91910 \nAppointments Required! \nCall for appointments: 619-691-8535
URL:https://liliscreations.com/trunk-show/trunk-show/
LOCATION:Lili’s Creations\, 329 E Street\, Chula Vista\, CA\, 91910\, United States
ATTACH;FMTTYPE=image/jpeg:https://liliscreations.com/wp-content/uploads/2024/10/trunk-show-november-2024.jpg
END:VEVENT
BEGIN:VEVENT
DTSTART;VALUE=DATE:20240515
DTEND;VALUE=DATE:20240601
DTSTAMP:20260423T075316
CREATED:20230314T151441Z
LAST-MODIFIED:20240514T171748Z
UID:19509-1715731200-1717199999@liliscreations.com
SUMMARY:Quinceanera Celebration
DESCRIPTION:Showcasing New Styles in Stock! \nOrder your dress between May 15th – 31st to be eligible to win a $1\,000 credit towards your purchase. \n(No cash value\, date of event must be before 12/31/25) \nCall to make an appointment today! 619-691-8535
URL:https://liliscreations.com/trunk-show/quinceanera-celebration/
LOCATION:Lili’s Creations\, 329 E Street\, Chula Vista\, CA\, 91910\, United States
ATTACH;FMTTYPE=image/jpeg:https://liliscreations.com/wp-content/uploads/2024/05/quinceanera1.jpeg
END:VEVENT
END:VCALENDAR